Package: BiocVersion Version: 3.13.1 Command: chmod a+r BiocVersion -R && C:\Users\biocbuild\bbs-3.13-bioc\R\bin\R.exe CMD build --keep-empty-dirs --no-resave-data BiocVersion StartedAt: 2021-10-14 12:04:57 -0400 (Thu, 14 Oct 2021) EndedAt: 2021-10-14 12:04:58 -0400 (Thu, 14 Oct 2021) EllapsedTime: 1.0 seconds RetCode: 0 Status: OK PackageFile: BiocVersion_3.13.1.tar.gz PackageFileSize: 980 bytes