Package: BiocWorkflowTools Version: 1.18.0 Command: /Library/Frameworks/R.framework/Versions/Current/Resources/bin/R CMD build --keep-empty-dirs --no-resave-data BiocWorkflowTools StartedAt: 2021-10-14 10:52:39 -0400 (Thu, 14 Oct 2021) EndedAt: 2021-10-14 10:53:04 -0400 (Thu, 14 Oct 2021) EllapsedTime: 24.4 seconds RetCode: 0 Status: OK PackageFile: BiocWorkflowTools_1.18.0.tar.gz PackageFileSize: 974.5 KiB