Package: BloodGen3Module Version: 1.0.0 Command: rm -rf BloodGen3Module.buildbin-libdir && mkdir BloodGen3Module.buildbin-libdir && /Users/biocbuild/BBS/utils/build-universal.sh BloodGen3Module_1.0.0.tar.gz /Library/Frameworks/R.framework/Versions/Current/Resources/bin/R BloodGen3Module.buildbin-libdir StartedAt: 2021-10-15 01:46:50 -0400 (Fri, 15 Oct 2021) EndedAt: 2021-10-15 01:47:50 -0400 (Fri, 15 Oct 2021) EllapsedTime: 60.0 seconds RetCode: 0 Status: OK PackageFile: BloodGen3Module_1.0.0.tgz PackageFileSize: 239.3 KiB