Package: BrainSABER Version: 1.2.0 Command: /home/biocbuild/bbs-3.13-bioc/R/bin/R CMD build --keep-empty-dirs --no-resave-data BrainSABER StartedAt: 2021-10-14 06:50:00 -0400 (Thu, 14 Oct 2021) EndedAt: 2021-10-14 06:51:55 -0400 (Thu, 14 Oct 2021) EllapsedTime: 114.8 seconds RetCode: 1 Status: ERROR PackageFile: None PackageFileSize: NA