git_url: https://git.bioconductor.org/packages/BrainStars git_branch: RELEASE_3_13 git_last_commit: d759ab6 git_last_commit_date: 2021-05-19 11:51:47 -0400 (Wed, 19 May 2021) Package: BrainStars Version: 1.36.0 Maintainer: Itoshi NIKAIDO MaintainerEmail: dritoshi at gmail.com