Package: BrainStars Version: 1.36.0 Command: /home/biocbuild/bbs-3.13-bioc/R/bin/R CMD INSTALL BrainStars StartedAt: 2021-10-14 06:05:23 -0400 (Thu, 14 Oct 2021) EndedAt: 2021-10-14 06:05:29 -0400 (Thu, 14 Oct 2021) EllapsedTime: 6.5 seconds RetCode: 0 Status: OK