Package: BubbleTree Version: 2.22.0 Command: /home/biocbuild/bbs-3.13-bioc/R/bin/R CMD check --install=check:BubbleTree.install-out.txt --library=/home/biocbuild/bbs-3.13-bioc/R/library --no-vignettes --timings BubbleTree_2.22.0.tar.gz StartedAt: 2021-10-14 09:06:21 -0400 (Thu, 14 Oct 2021) EndedAt: 2021-10-14 09:11:40 -0400 (Thu, 14 Oct 2021) EllapsedTime: 318.9 seconds RetCode: 0 Status: OK CheckDir: BubbleTree.Rcheck Warnings: 0