Package: BufferedMatrixMethods Version: 1.56.0 Command: /Library/Frameworks/R.framework/Versions/Current/Resources/bin/R CMD build --keep-empty-dirs --no-resave-data BufferedMatrixMethods StartedAt: 2021-10-14 10:59:51 -0400 (Thu, 14 Oct 2021) EndedAt: 2021-10-14 10:59:56 -0400 (Thu, 14 Oct 2021) EllapsedTime: 4.8 seconds RetCode: 0 Status: OK PackageFile: BufferedMatrixMethods_1.56.0.tar.gz PackageFileSize: 10.91 KiB