Package: BufferedMatrixMethods Version: 1.56.0 Command: /home/biocbuild/bbs-3.13-bioc/R/bin/R CMD build --keep-empty-dirs --no-resave-data BufferedMatrixMethods StartedAt: 2021-10-14 06:50:57 -0400 (Thu, 14 Oct 2021) EndedAt: 2021-10-14 06:50:57 -0400 (Thu, 14 Oct 2021) EllapsedTime: 0.3 seconds RetCode: 0 Status: OK PackageFile: BufferedMatrixMethods_1.56.0.tar.gz PackageFileSize: 10.82 KiB