Package: BufferedMatrixMethods Version: 1.56.0 Command: /home/biocbuild/bbs-3.13-bioc/R/bin/R CMD check --install=check:BufferedMatrixMethods.install-out.txt --library=/home/biocbuild/bbs-3.13-bioc/R/library --no-vignettes --timings BufferedMatrixMethods_1.56.0.tar.gz StartedAt: 2021-10-14 09:06:36 -0400 (Thu, 14 Oct 2021) EndedAt: 2021-10-14 09:06:52 -0400 (Thu, 14 Oct 2021) EllapsedTime: 15.5 seconds RetCode: 0 Status: OK CheckDir: BufferedMatrixMethods.Rcheck Warnings: 0