Package: BufferedMatrixMethods Version: 1.56.0 Command: /home/biocbuild/bbs-3.13-bioc/R/bin/R CMD INSTALL BufferedMatrixMethods StartedAt: 2021-10-14 06:02:27 -0400 (Thu, 14 Oct 2021) EndedAt: 2021-10-14 06:02:38 -0400 (Thu, 14 Oct 2021) EllapsedTime: 11.5 seconds RetCode: 0 Status: OK