Package: BufferedMatrixMethods Version: 1.56.0 Command: rm -rf BufferedMatrixMethods.buildbin-libdir && mkdir BufferedMatrixMethods.buildbin-libdir && C:\Users\biocbuild\bbs-3.13-bioc\R\bin\R.exe CMD INSTALL --merge-multiarch --build --library=BufferedMatrixMethods.buildbin-libdir BufferedMatrixMethods_1.56.0.tar.gz StartedAt: 2021-10-15 08:21:51 -0400 (Fri, 15 Oct 2021) EndedAt: 2021-10-15 08:23:30 -0400 (Fri, 15 Oct 2021) EllapsedTime: 98.7 seconds RetCode: 0 Status: OK PackageFile: BufferedMatrixMethods_1.56.0.zip PackageFileSize: 75.85 KiB