Package: BufferedMatrixMethods Version: 1.56.0 Command: C:\cygwin\bin\curl.exe -O http://155.52.207.165/BBS/3.13/bioc/src/contrib/BufferedMatrixMethods_1.56.0.tar.gz && rm -rf BufferedMatrixMethods.buildbin-libdir && mkdir BufferedMatrixMethods.buildbin-libdir && C:\Users\biocbuild\bbs-3.13-bioc\R\bin\R.exe CMD INSTALL --merge-multiarch --build --library=BufferedMatrixMethods.buildbin-libdir BufferedMatrixMethods_1.56.0.tar.gz && C:\Users\biocbuild\bbs-3.13-bioc\R\bin\R.exe CMD INSTALL BufferedMatrixMethods_1.56.0.zip && rm BufferedMatrixMethods_1.56.0.tar.gz BufferedMatrixMethods_1.56.0.zip StartedAt: 2021-10-14 06:58:12 -0400 (Thu, 14 Oct 2021) EndedAt: 2021-10-14 06:59:22 -0400 (Thu, 14 Oct 2021) EllapsedTime: 69.4 seconds RetCode: 0 Status: OK