Package: CAEN Version: 1.0.0 Command: /Library/Frameworks/R.framework/Versions/Current/Resources/bin/R CMD check --install=check:CAEN.install-out.txt --library=/Library/Frameworks/R.framework/Versions/Current/Resources/library --no-vignettes --timings CAEN_1.0.0.tar.gz StartedAt: 2021-10-14 17:00:43 -0400 (Thu, 14 Oct 2021) EndedAt: 2021-10-14 17:03:31 -0400 (Thu, 14 Oct 2021) EllapsedTime: 167.7 seconds RetCode: 0 Status: OK CheckDir: CAEN.Rcheck Warnings: 0