Package: CAEN Version: 1.0.0 Command: /home/biocbuild/bbs-3.13-bioc/R/bin/R CMD build --keep-empty-dirs --no-resave-data CAEN StartedAt: 2021-10-14 06:51:11 -0400 (Thu, 14 Oct 2021) EndedAt: 2021-10-14 06:53:07 -0400 (Thu, 14 Oct 2021) EllapsedTime: 115.8 seconds RetCode: 0 Status: OK PackageFile: CAEN_1.0.0.tar.gz PackageFileSize: 988.2 KiB