Package: CAEN Version: 1.0.0 Command: /home/biocbuild/bbs-3.13-bioc/R/bin/R CMD check --install=check:CAEN.install-out.txt --library=/home/biocbuild/bbs-3.13-bioc/R/library --no-vignettes --timings CAEN_1.0.0.tar.gz StartedAt: 2021-10-14 09:07:08 -0400 (Thu, 14 Oct 2021) EndedAt: 2021-10-14 09:09:05 -0400 (Thu, 14 Oct 2021) EllapsedTime: 117.1 seconds RetCode: 0 Status: OK CheckDir: CAEN.Rcheck Warnings: 0