Package: CAFE Version: 1.28.0 Command: /Library/Frameworks/R.framework/Versions/Current/Resources/bin/R CMD build --keep-empty-dirs --no-resave-data CAFE StartedAt: 2021-10-14 11:00:38 -0400 (Thu, 14 Oct 2021) EndedAt: 2021-10-14 11:02:25 -0400 (Thu, 14 Oct 2021) EllapsedTime: 106.7 seconds RetCode: 0 Status: OK PackageFile: CAFE_1.28.0.tar.gz PackageFileSize: 4.602 MiB