Package: CAFE Version: 1.28.0 Command: /Library/Frameworks/R.framework/Versions/Current/Resources/bin/R CMD check --install=check:CAFE.install-out.txt --library=/Library/Frameworks/R.framework/Versions/Current/Resources/library --no-vignettes --timings CAFE_1.28.0.tar.gz StartedAt: 2021-10-14 17:01:03 -0400 (Thu, 14 Oct 2021) EndedAt: 2021-10-14 17:07:57 -0400 (Thu, 14 Oct 2021) EllapsedTime: 414.7 seconds RetCode: 0 Status: WARNINGS CheckDir: CAFE.Rcheck Warnings: 1