Package: CAFE Version: 1.28.0 Command: /Library/Frameworks/R.framework/Versions/Current/Resources/bin/R CMD INSTALL CAFE StartedAt: 2021-10-14 10:12:09 -0400 (Thu, 14 Oct 2021) EndedAt: 2021-10-14 10:13:09 -0400 (Thu, 14 Oct 2021) EllapsedTime: 60.6 seconds RetCode: 0 Status: OK