Package: CAFE Version: 1.28.0 Command: /home/biocbuild/bbs-3.13-bioc/R/bin/R CMD build --keep-empty-dirs --no-resave-data CAFE StartedAt: 2021-10-14 06:51:12 -0400 (Thu, 14 Oct 2021) EndedAt: 2021-10-14 06:52:32 -0400 (Thu, 14 Oct 2021) EllapsedTime: 79.9 seconds RetCode: 0 Status: OK PackageFile: CAFE_1.28.0.tar.gz PackageFileSize: 4.603 MiB