Package: CAFE Version: 1.28.0 Command: C:\cygwin\bin\curl.exe -O http://155.52.207.165/BBS/3.13/bioc/src/contrib/CAFE_1.28.0.tar.gz && rm -rf CAFE.buildbin-libdir && mkdir CAFE.buildbin-libdir && C:\Users\biocbuild\bbs-3.13-bioc\R\bin\R.exe CMD INSTALL --merge-multiarch --build --library=CAFE.buildbin-libdir CAFE_1.28.0.tar.gz && C:\Users\biocbuild\bbs-3.13-bioc\R\bin\R.exe CMD INSTALL CAFE_1.28.0.zip && rm CAFE_1.28.0.tar.gz CAFE_1.28.0.zip StartedAt: 2021-10-14 10:52:20 -0400 (Thu, 14 Oct 2021) EndedAt: 2021-10-14 10:53:37 -0400 (Thu, 14 Oct 2021) EllapsedTime: 76.6 seconds RetCode: 0 Status: OK