Package: CAGEfightR Version: 1.12.0 Command: /Library/Frameworks/R.framework/Versions/Current/Resources/bin/R CMD check --install=check:CAGEfightR.install-out.txt --library=/Library/Frameworks/R.framework/Versions/Current/Resources/library --no-vignettes --timings CAGEfightR_1.12.0.tar.gz StartedAt: 2021-10-14 17:01:15 -0400 (Thu, 14 Oct 2021) EndedAt: 2021-10-14 17:08:30 -0400 (Thu, 14 Oct 2021) EllapsedTime: 435.4 seconds RetCode: 0 Status: OK CheckDir: CAGEfightR.Rcheck Warnings: 0