Package: CAGEfightR Version: 1.12.0 Command: /home/biocbuild/bbs-3.13-bioc/R/bin/R CMD check --install=check:CAGEfightR.install-out.txt --library=/home/biocbuild/bbs-3.13-bioc/R/library --no-vignettes --timings CAGEfightR_1.12.0.tar.gz StartedAt: 2021-10-14 09:07:17 -0400 (Thu, 14 Oct 2021) EndedAt: 2021-10-14 09:12:37 -0400 (Thu, 14 Oct 2021) EllapsedTime: 319.7 seconds RetCode: 0 Status: OK CheckDir: CAGEfightR.Rcheck Warnings: 0