Package: CAGEfightR Version: 1.12.0 Command: rm -rf CAGEfightR.buildbin-libdir && mkdir CAGEfightR.buildbin-libdir && C:\Users\biocbuild\bbs-3.13-bioc\R\bin\R.exe CMD INSTALL --merge-multiarch --build --library=CAGEfightR.buildbin-libdir CAGEfightR_1.12.0.tar.gz StartedAt: 2021-10-15 08:23:07 -0400 (Fri, 15 Oct 2021) EndedAt: 2021-10-15 08:24:49 -0400 (Fri, 15 Oct 2021) EllapsedTime: 101.7 seconds RetCode: 0 Status: OK PackageFile: CAGEfightR_1.12.0.zip PackageFileSize: 3.075 MiB