Package: CAGEfightR Version: 1.12.0 Command: C:\cygwin\bin\curl.exe -O http://155.52.207.165/BBS/3.13/bioc/src/contrib/CAGEfightR_1.12.0.tar.gz && rm -rf CAGEfightR.buildbin-libdir && mkdir CAGEfightR.buildbin-libdir && C:\Users\biocbuild\bbs-3.13-bioc\R\bin\R.exe CMD INSTALL --merge-multiarch --build --library=CAGEfightR.buildbin-libdir CAGEfightR_1.12.0.tar.gz && C:\Users\biocbuild\bbs-3.13-bioc\R\bin\R.exe CMD INSTALL CAGEfightR_1.12.0.zip && rm CAGEfightR_1.12.0.tar.gz CAGEfightR_1.12.0.zip StartedAt: 2021-10-14 10:56:13 -0400 (Thu, 14 Oct 2021) EndedAt: 2021-10-14 10:57:47 -0400 (Thu, 14 Oct 2021) EllapsedTime: 93.7 seconds RetCode: 0 Status: OK