git_url: https://git.bioconductor.org/packages/CCPROMISE git_branch: RELEASE_3_13 git_last_commit: 69c49fa git_last_commit_date: 2021-05-19 12:24:22 -0400 (Wed, 19 May 2021) Package: CCPROMISE Version: 1.18.0 Maintainer: Xueyuan Cao MaintainerEmail: xueyuan.cao at stjude.org