Package: CGEN Version: 3.28.0 Command: chmod a+r CGEN -R && C:\Users\biocbuild\bbs-3.13-bioc\R\bin\R.exe CMD build --keep-empty-dirs --no-resave-data CGEN StartedAt: 2021-10-14 12:41:02 -0400 (Thu, 14 Oct 2021) EndedAt: 2021-10-14 12:42:12 -0400 (Thu, 14 Oct 2021) EllapsedTime: 70.2 seconds RetCode: 0 Status: OK PackageFile: CGEN_3.28.0.tar.gz PackageFileSize: 902.7 KiB