Package: CGHbase Version: 1.52.0 Command: /Library/Frameworks/R.framework/Versions/Current/Resources/bin/R CMD INSTALL CGHbase StartedAt: 2021-10-14 08:46:20 -0400 (Thu, 14 Oct 2021) EndedAt: 2021-10-14 08:47:11 -0400 (Thu, 14 Oct 2021) EllapsedTime: 51.1 seconds RetCode: 0 Status: OK