Package: CGHbase Version: 1.52.0 Command: rm -rf CGHbase.buildbin-libdir && mkdir CGHbase.buildbin-libdir && C:\Users\biocbuild\bbs-3.13-bioc\R\bin\R.exe CMD INSTALL --merge-multiarch --build --library=CGHbase.buildbin-libdir CGHbase_1.52.0.tar.gz StartedAt: 2021-10-15 08:29:53 -0400 (Fri, 15 Oct 2021) EndedAt: 2021-10-15 08:31:23 -0400 (Fri, 15 Oct 2021) EllapsedTime: 90.1 seconds RetCode: 0 Status: OK PackageFile: CGHbase_1.52.0.zip PackageFileSize: 1.088 MiB