Package: CMA Version: 1.50.0 Command: chmod a+r CMA -R && C:\Users\biocbuild\bbs-3.13-bioc\R\bin\R.exe CMD build --keep-empty-dirs --no-resave-data CMA StartedAt: 2021-10-14 12:53:30 -0400 (Thu, 14 Oct 2021) EndedAt: 2021-10-14 12:54:22 -0400 (Thu, 14 Oct 2021) EllapsedTime: 52.4 seconds RetCode: 0 Status: OK PackageFile: CMA_1.50.0.tar.gz PackageFileSize: 1.073 MiB