Package: CNEr Version: 1.28.0 Command: /home/biocbuild/bbs-3.13-bioc/R/bin/R CMD check --install=check:CNEr.install-out.txt --library=/home/biocbuild/bbs-3.13-bioc/R/library --no-vignettes --timings CNEr_1.28.0.tar.gz StartedAt: 2021-10-14 09:18:47 -0400 (Thu, 14 Oct 2021) EndedAt: 2021-10-14 09:28:24 -0400 (Thu, 14 Oct 2021) EllapsedTime: 576.8 seconds RetCode: 0 Status: OK CheckDir: CNEr.Rcheck Warnings: 0