Package: CNORfuzzy Version: 1.34.0 Command: /home/biocbuild/bbs-3.13-bioc/R/bin/R CMD build --keep-empty-dirs --no-resave-data CNORfuzzy StartedAt: 2021-10-14 06:59:10 -0400 (Thu, 14 Oct 2021) EndedAt: 2021-10-14 06:59:30 -0400 (Thu, 14 Oct 2021) EllapsedTime: 19.6 seconds RetCode: 0 Status: OK PackageFile: CNORfuzzy_1.34.0.tar.gz PackageFileSize: 908.5 KiB