git_url: https://git.bioconductor.org/packages/CNORode git_branch: RELEASE_3_13 git_last_commit: 06fde26 git_last_commit_date: 2021-05-19 11:54:17 -0400 (Wed, 19 May 2021) Package: CNORode Version: 1.34.0 Maintainer: Enio Gjerga MaintainerEmail: enio.gjerga at gmail.com