Package: CNVRanger Version: 1.8.0 Command: C:\cygwin\bin\curl.exe -O http://155.52.207.165/BBS/3.13/bioc/src/contrib/CNVRanger_1.8.0.tar.gz && rm -rf CNVRanger.buildbin-libdir && mkdir CNVRanger.buildbin-libdir && C:\Users\biocbuild\bbs-3.13-bioc\R\bin\R.exe CMD INSTALL --merge-multiarch --build --library=CNVRanger.buildbin-libdir CNVRanger_1.8.0.tar.gz && C:\Users\biocbuild\bbs-3.13-bioc\R\bin\R.exe CMD INSTALL CNVRanger_1.8.0.zip && rm CNVRanger_1.8.0.tar.gz CNVRanger_1.8.0.zip StartedAt: 2021-10-14 09:08:41 -0400 (Thu, 14 Oct 2021) EndedAt: 2021-10-14 09:09:37 -0400 (Thu, 14 Oct 2021) EllapsedTime: 56.1 seconds RetCode: 0 Status: OK