git_url: https://git.bioconductor.org/packages/CNVgears git_branch: RELEASE_3_13 git_last_commit: 3167245 git_last_commit_date: 2021-05-19 12:58:19 -0400 (Wed, 19 May 2021) Package: CNVgears Version: 1.0.0 Maintainer: Simone Montalbano MaintainerEmail: simone.montalbano at protonmail.com