git_url: https://git.bioconductor.org/packages/CRISPRseek git_branch: RELEASE_3_13 git_last_commit: b64de86 git_last_commit_date: 2021-05-19 12:01:57 -0400 (Wed, 19 May 2021) Package: CRISPRseek Version: 1.32.0 Maintainer: Lihua Julie Zhu MaintainerEmail: julie.zhu at umassmed.edu