Package: CRISPRseek Version: 1.32.0 Command: rm -rf CRISPRseek.buildbin-libdir && mkdir CRISPRseek.buildbin-libdir && /Users/biocbuild/BBS/utils/build-universal.sh CRISPRseek_1.32.0.tar.gz /Library/Frameworks/R.framework/Versions/Current/Resources/bin/R CRISPRseek.buildbin-libdir StartedAt: 2021-10-15 02:04:43 -0400 (Fri, 15 Oct 2021) EndedAt: 2021-10-15 02:05:47 -0400 (Fri, 15 Oct 2021) EllapsedTime: 63.6 seconds RetCode: 0 Status: OK PackageFile: CRISPRseek_1.32.0.tgz PackageFileSize: 8.498 MiB