Package: CSSP Version: 1.30.0 Command: /home/biocbuild/bbs-3.13-bioc/R/bin/R CMD build --keep-empty-dirs --no-resave-data CSSP StartedAt: 2021-10-14 07:03:22 -0400 (Thu, 14 Oct 2021) EndedAt: 2021-10-14 07:03:33 -0400 (Thu, 14 Oct 2021) EllapsedTime: 11.7 seconds RetCode: 0 Status: OK PackageFile: CSSP_1.30.0.tar.gz PackageFileSize: 649.8 KiB