Package: CSSP Version: 1.30.0 Command: /home/biocbuild/bbs-3.13-bioc/R/bin/R CMD INSTALL CSSP StartedAt: 2021-10-14 06:02:31 -0400 (Thu, 14 Oct 2021) EndedAt: 2021-10-14 06:02:42 -0400 (Thu, 14 Oct 2021) EllapsedTime: 10.3 seconds RetCode: 0 Status: OK