git_url: https://git.bioconductor.org/packages/CSSQ git_branch: RELEASE_3_13 git_last_commit: d067a65 git_last_commit_date: 2021-07-28 00:28:16 -0400 (Wed, 28 Jul 2021) Package: CSSQ Version: 1.4.1 Maintainer: Fan Lab at Georgia Institute of Technology MaintainerEmail: yuhong.fan at biology.gatech.edu