Package: CSSQ Version: 1.4.1 Command: rm -rf CSSQ.buildbin-libdir && mkdir CSSQ.buildbin-libdir && /Users/biocbuild/BBS/utils/build-universal.sh CSSQ_1.4.1.tar.gz /Library/Frameworks/R.framework/Versions/Current/Resources/bin/R CSSQ.buildbin-libdir StartedAt: 2021-10-15 02:05:25 -0400 (Fri, 15 Oct 2021) EndedAt: 2021-10-15 02:06:25 -0400 (Fri, 15 Oct 2021) EllapsedTime: 59.2 seconds RetCode: 0 Status: OK PackageFile: CSSQ_1.4.1.tgz PackageFileSize: 927.9 KiB