Package: CausalR Version: 1.24.0 Command: /Library/Frameworks/R.framework/Versions/Current/Resources/bin/R CMD build --keep-empty-dirs --no-resave-data CausalR StartedAt: 2021-10-14 11:03:22 -0400 (Thu, 14 Oct 2021) EndedAt: 2021-10-14 11:03:59 -0400 (Thu, 14 Oct 2021) EllapsedTime: 37.2 seconds RetCode: 0 Status: OK PackageFile: CausalR_1.24.0.tar.gz PackageFileSize: 561.3 KiB