Package: CeTF Version: 1.4.5 Command: rm -rf CeTF.buildbin-libdir && mkdir CeTF.buildbin-libdir && /Users/biocbuild/BBS/utils/build-universal.sh CeTF_1.4.5.tar.gz /Library/Frameworks/R.framework/Versions/Current/Resources/bin/R CeTF.buildbin-libdir StartedAt: 2021-10-15 01:53:12 -0400 (Fri, 15 Oct 2021) EndedAt: 2021-10-15 01:54:17 -0400 (Fri, 15 Oct 2021) EllapsedTime: 64.2 seconds RetCode: 0 Status: OK PackageFile: CeTF_1.4.5.tgz PackageFileSize: 3.87 MiB