Package: CeTF Version: 1.4.5 Command: /Library/Frameworks/R.framework/Versions/Current/Resources/bin/R CMD build --keep-empty-dirs --no-resave-data CeTF StartedAt: 2021-10-14 11:08:29 -0400 (Thu, 14 Oct 2021) EndedAt: 2021-10-14 11:11:41 -0400 (Thu, 14 Oct 2021) EllapsedTime: 191.9 seconds RetCode: 0 Status: OK PackageFile: CeTF_1.4.5.tar.gz PackageFileSize: 3.645 MiB