Package: CeTF Version: 1.4.5 Command: chmod a+r CeTF -R && C:\Users\biocbuild\bbs-3.13-bioc\R\bin\R.exe CMD build --keep-empty-dirs --no-resave-data CeTF StartedAt: 2021-10-14 12:40:12 -0400 (Thu, 14 Oct 2021) EndedAt: 2021-10-14 12:44:28 -0400 (Thu, 14 Oct 2021) EllapsedTime: 255.5 seconds RetCode: 0 Status: OK PackageFile: CeTF_1.4.5.tar.gz PackageFileSize: 2.784 MiB