Package: CelliD Version: 1.0.0 Command: rm -rf CelliD.buildbin-libdir && mkdir CelliD.buildbin-libdir && /Users/biocbuild/BBS/utils/build-universal.sh CelliD_1.0.0.tar.gz /Library/Frameworks/R.framework/Versions/Current/Resources/bin/R CelliD.buildbin-libdir StartedAt: 2021-10-15 01:52:02 -0400 (Fri, 15 Oct 2021) EndedAt: 2021-10-15 01:54:22 -0400 (Fri, 15 Oct 2021) EllapsedTime: 140.2 seconds RetCode: 0 Status: OK PackageFile: CelliD_1.0.0.tgz PackageFileSize: 3.067 MiB