Package: CelliD Version: 1.0.0 Command: /Library/Frameworks/R.framework/Versions/Current/Resources/bin/R CMD build --keep-empty-dirs --no-resave-data CelliD StartedAt: 2021-10-14 11:05:18 -0400 (Thu, 14 Oct 2021) EndedAt: 2021-10-14 11:15:53 -0400 (Thu, 14 Oct 2021) EllapsedTime: 634.7 seconds RetCode: 0 Status: OK PackageFile: CelliD_1.0.0.tar.gz PackageFileSize: 2.82 MiB