Package: CelliD Version: 1.0.0 Command: /home/biocbuild/bbs-3.13-bioc/R/bin/R CMD build --keep-empty-dirs --no-resave-data CelliD StartedAt: 2021-10-14 06:53:20 -0400 (Thu, 14 Oct 2021) EndedAt: 2021-10-14 07:03:37 -0400 (Thu, 14 Oct 2021) EllapsedTime: 617.0 seconds RetCode: 0 Status: OK PackageFile: CelliD_1.0.0.tar.gz PackageFileSize: 2.83 MiB