Package: CelliD Version: 1.0.0 Command: C:\Users\biocbuild\bbs-3.13-bioc\R\bin\R.exe CMD check --force-multiarch --install=check:CelliD.install-out.txt --library=C:\Users\biocbuild\bbs-3.13-bioc\R\library --no-vignettes --timings CelliD_1.0.0.tar.gz StartedAt: 2021-10-14 20:46:21 -0400 (Thu, 14 Oct 2021) EndedAt: 2021-10-14 20:55:50 -0400 (Thu, 14 Oct 2021) EllapsedTime: 569.3 seconds RetCode: 0 Status: OK CheckDir: CelliD.Rcheck Warnings: 0