git_url: https://git.bioconductor.org/packages/CexoR git_branch: RELEASE_3_13 git_last_commit: e182a38 git_last_commit_date: 2021-09-13 22:36:48 -0400 (Mon, 13 Sep 2021) Package: CexoR Version: 1.30.1 Maintainer: Pedro Madrigal MaintainerEmail: pmadrigal at ebi.ac.uk